BEGIN:VCALENDAR
PRODID:-//Southern Cross University//Events Calendar//EN
VERSION:2.0
X-WR-CALNAME:Southern Cross University Events
BEGIN:VTIMEZONE
TZID:Australia/Sydney
LAST-MODIFIED:20201011T015911Z
TZURL:http://tzurl.org/zoneinfo-outlook/Australia/Sydney
X-LIC-LOCATION:Australia/Sydney
BEGIN:STANDARD
TZNAME:AEST
TZOFFSETFROM:+1100
TZOFFSETTO:+1000
DTSTART:19700405T030000
RRULE:FREQ=YEARLY;BYMONTH=4;BYDAY=1SU
END:STANDARD
BEGIN:DAYLIGHT
TZNAME:AEDT
TZOFFSETFROM:+1000
TZOFFSETTO:+1100
DTSTART:19701004T020000
RRULE:FREQ=YEARLY;BYMONTH=10;BYDAY=1SU
END:DAYLIGHT
END:VTIMEZONE
BEGIN:VEVENT
CATEGORIES:Research & Academic, Study Support
DESCRIPTION:This session will help you understand evidence-based practice and teach you how to find primary and secondary evidence, including different study designs for your assessment tasks:
DTSTAMP:20260120T113000Z
DTSTART;TZID=Australia/Sydney:20260120T113000
DTEND;TZID=Australia/Sydney:20260120T123000
LOCATION:Online
SUMMARY;LANGUAGE=en-us:Evidence-based Practice: Searching for evidence
UID:564516
END:VEVENT
END:VCALENDAR