Workbook
Name _Hlk111208034: '3. Assessment'!#REF!
Name Consequence: '[1]Dropdown codes'!$H$1:$H$5
Name Consequence: '[2]Dropdown codes'!$H$1:$H$5
Name Consequence: '[1]Dropdown codes'!$H$1:$H$5
Name Consequence: '[3]Dropdown codes'!$H$2:$H$6
Name Consequence: 'Dropdown codes'!$H$2:$H$6
Name Likelihood: '[1]Dropdown codes'!$G$1:$G$5
Name Likelihood: '[2]Dropdown codes'!$G$1:$G$5
Name Likelihood: '[1]Dropdown codes'!$G$1:$G$5
Name Likelihood: '[3]Dropdown codes'!$G$2:$G$6
Name Likelihood: 'Dropdown codes'!$G$2:$G$6
Name Outcomes: '[1]Dropdown codes'!$K$1:$L$25
Name Outcomes: '[2]Dropdown codes'!$K$1:$L$25
Name Outcomes: '[1]Dropdown codes'!$K$1:$L$25
Name Outcomes: 'Dropdown codes'!$K$2:$L$26
Name Rare: 'Dropdown codes'!$H$2:$H$6
Name Rating: #REF!
Name Rating: #REF!

Sheet 1. Information
B2: Instructions | C2: Links
B4: The risk assessment team is made up of team members from various work areas and key stakeholders and utilises the experience and operational knowledge of the team to provide consultation and communication. | C4: Critical Risk
B5: Monitoring of the controls is required if there is any change in process, the controls are not effective, on request of a Health and Safety Representative or as a result of relevant incident. | C5: Management System documents - HRP , Associated forms ,support systems
B6: The hazards and controls identified during this process can be used to inform - Safe work instruction , plant risk assessments , field work risk assessments and other assessment tools that may be required. | C6: Risk Management System documents
B7: 1. Complete the first section of the Cover Page
B8: 2. Asses the risk - Confirm the context, scope including a description of the task, area or plant and equipment
B9: 3. List current controls that are used to manage the risk scenario, consider the hierarchy of control , our management system (critical risk, High risk procedures and frameworks)
B10: 4. Score the risk using the risk matrix provide in (4. Action Plan) with current controls in place to determine if the hazard is controlled to So Far as Reasonable Practicable(SFARP)
B11: 5. If required, include additional controls to control the hazards for the context of how people may interact with the hazard.
B12: 6. Re-score the risk scenario taking in to consideration current and additional controls.
B13: 7. All additional controls identified in step 5 need to be actioned and assigned responsibility and due dates in Action Plan.
B21: Risk Assessment Approach

Sheet  2. Cover Page
C2: Hazard Identification, Risk Assessment and Control Tool
C3: All sections of this form must be filled in prior to completion of the risk assessment
B4: Title: | C4: Risk assessment for after hours access to libraries at the SCU Lismore and Gold Coast campuses.
B5: Date: | C5: 46042 | D5: Work Unit: | E5: WHS
B6: Facilitator: | C6: Michael Karkkainen | D6: Requested by: | E6: Shaun Brown
B7: Scope / Objectives:
B8: The intent of this risk assessment is to identify and implement controls for hazards associated with after hours access of SCU libraries at Lismore and the Gold Coast campuses by SCU students in determining the overall tolerability of the risk.
B10: Name | D10: Job Title
B11: Clare Thorpe | D11: Director, Library Services
B12: Danika Head | D12: Director, Property Services
B13: Chithira Johnson | D13: Director, Student Support and Success
B21: I have reviewed this risk assessment and am satisfied that the hazards have been identified and the risk will be managed by existing controls and implementation of the action plan.
B22: Name of Approver: | D22: Signature:
B23: Division: | D23: Date:

Sheet 3. Assessment
A1: Title
A2: Item | B2: ISSUE OR STEP IN OPERATION | C2: DESCRIBE THE HAZARD What has the potential to cause harm in this step? | D2: Existing Controls | E2: Current Risk Rating With Existing Controls In Place | H2: Additional Controls (to be implemented) | I2: Residual Risk Rating
E3: Consequence | F3: Likelihood | G3: Rating | I3: Consequence | J3: Likelihood | K3: Rating
A4: 1 | B4: Student after-hours access to libraries | C4: Context Students using their swipe access to enter libraries and other people tailgating Hazard Persons who have tailgated unable to leave the library | D4: Students phone Security for assistance to exit the Library (help phone available). CCTV monitoring Access only available to people who have completed an after-hours induction. | E4: Minor | F4: Likely | G4: {=INDEX('Dropdown codes'!L$2:L$100, MATCH(1, ('Dropdown codes'!I$2:I$100=E4)*('Dropdown codes'!J$2:J$100=F4), 0))} -> Moderate 8 | H4: Add after-hours access information to Library self-help resources and Orientation on-boarding activities. Post Security phone number next to swipe card reader. Replace exit swipe card reader with a push button (completed). Swipe card access only be enabled for students who have completed the Respect@SCU online training module and general inducation information that may include: emergency response procedures; behaviour expectations and conditions of entry (e.g. no tailgating, SCU ID card required at all times, alcohol free space); incident reporting requirements; loss of 24/7 access for breach of conditions (similar to 24/7 access at Lismore gym). Annual refresher/reinduction program recommended. Display Student support service information (posters/signage) in all study areas including after-hours crisis number. | I4: Minor | J4: Unlikely | K4: {=INDEX('[4]Dropdown codes'!L$2:L$100, MATCH(1, ('[4]Dropdown codes'!I$2:I$100=I4)*('[4]Dropdown codes'!J$2:J$100=J4), 0))} -> Low 4
A5: 2 | B5: Student after-hours access to libraries | C5: Context Students working alone or isolated in a library Hazard 1.Sexual assualt 2.Emergency events 3.Illness and injuries 4.Medical emergencies 5.Violence and aggression | D5: 1 - 5 Wall mounted duress alarms Security call points (wall mounted) located on each level of the Library. Security on site for first aid provision and emergency management CCTV monitoring, Access only available to people who have completed an after-hours induction. Lighting of internal and external areas | E5: Moderate | F5: Rare | G5: {=INDEX('Dropdown codes'!L$2:L$100, MATCH(1, ('Dropdown codes'!I$2:I$100=E5)*('Dropdown codes'!J$2:J$100=F5), 0))} -> Low 3 | H5: Review CCTV security camera locations for maximum coverage. Hourly Security staff patrols, including regular patrols of bathrooms. Portable duress alarms to be made available for students to collect from Security and return after use. Students to complete the Respect@SCU online training modules before their swipe card is enabled for after hours access. Designate one carpark as the after hours carpark. Offer security escorts to and from designated carpark. Close other 24/7 student spaces on campus and offer the Library as the only 24/7 space to maximise use and safety. Investigate the establishment of a 'safe room' that students can lock themselves in if needed. (See Lismore campus gym safe room as an example.) Display Student support service information (posters/signage) in all study areas including after-hours crisis number. | I5: Moderate | J5: Rare | K5: {=INDEX('[4]Dropdown codes'!L$2:L$100, MATCH(1, ('[4]Dropdown codes'!I$2:I$100=I5)*('[4]Dropdown codes'!J$2:J$100=J5), 0))} -> Low 3
A6: 1 | I6: Major | J6: Rare | K6: {=INDEX('[4]Dropdown codes'!L$2:L$100, MATCH(1, ('[4]Dropdown codes'!I$2:I$100=I6)*('[4]Dropdown codes'!J$2:J$100=J6), 0))} -> Low 4
A7: 1 | C7: Context Hazard 1. | D7: 1. | E7: Moderate | F7: Rare | G7: {=INDEX('Dropdown codes'!L$2:L$100, MATCH(1, ('Dropdown codes'!I$2:I$100=E7)*('Dropdown codes'!J$2:J$100=F7), 0))} -> Low 3 | I7: Moderate | J7: Unlikely | K7: {=INDEX('[4]Dropdown codes'!L$2:L$100, MATCH(1, ('[4]Dropdown codes'!I$2:I$100=I7)*('[4]Dropdown codes'!J$2:J$100=J7), 0))} -> Moderate 6
A8: 1 | C8: Context Hazard 1. | D8: 1. | E8: Moderate | F8: Rare | G8: {=INDEX('Dropdown codes'!L$2:L$100, MATCH(1, ('Dropdown codes'!I$2:I$100=E8)*('Dropdown codes'!J$2:J$100=F8), 0))} -> Low 3 | I8: Major | J8: Unlikely | K8: {=INDEX('[4]Dropdown codes'!L$2:L$100, MATCH(1, ('[4]Dropdown codes'!I$2:I$100=I8)*('[4]Dropdown codes'!J$2:J$100=J8), 0))} -> Moderate 8
A9: 1 | C9: Context Hazard 1. | D9: 1. | E9: Moderate | F9: Rare | G9: {=INDEX('Dropdown codes'!L$2:L$100, MATCH(1, ('Dropdown codes'!I$2:I$100=E9)*('Dropdown codes'!J$2:J$100=F9), 0))} -> Low 3
A10: 1 | C10: Context Hazard 1. | D10: 1. | E10: Moderate | F10: Rare | G10: {=INDEX('Dropdown codes'!L$2:L$100, MATCH(1, ('Dropdown codes'!I$2:I$100=E10)*('Dropdown codes'!J$2:J$100=F10), 0))} -> Low 3 | I10: Major | J10: Unlikely | K10: {=INDEX('[4]Dropdown codes'!L$2:L$100, MATCH(1, ('[4]Dropdown codes'!I$2:I$100=I10)*('[4]Dropdown codes'!J$2:J$100=J10), 0))} -> Moderate 8
A11: 1 | C11: Context Hazard 1. | D11: 1. | E11: Moderate | F11: Rare | G11: {=INDEX('Dropdown codes'!L$2:L$100, MATCH(1, ('Dropdown codes'!I$2:I$100=E11)*('Dropdown codes'!J$2:J$100=F11), 0))} -> Low 3
A12: 1 | C12: Context Hazard 1. | D12: 1. | E12: Moderate | F12: Rare | G12: {=INDEX('Dropdown codes'!L$2:L$100, MATCH(1, ('Dropdown codes'!I$2:I$100=E12)*('Dropdown codes'!J$2:J$100=F12), 0))} -> Low 3 | I12: Critical | J12: Unlikely | K12: {=INDEX('[4]Dropdown codes'!L$2:L$100, MATCH(1, ('[4]Dropdown codes'!I$2:I$100=I12)*('[4]Dropdown codes'!J$2:J$100=J12), 0))} -> Moderate 10
A13: 1 | C13: Context Hazard 1. | D13: 1. | E13: Moderate | F13: Rare | G13: {=INDEX('Dropdown codes'!L$2:L$100, MATCH(1, ('Dropdown codes'!I$2:I$100=E13)*('Dropdown codes'!J$2:J$100=F13), 0))} -> Low 3 | I13: Major | J13: Unlikely | K13: {=INDEX('[4]Dropdown codes'!L$2:L$100, MATCH(1, ('[4]Dropdown codes'!I$2:I$100=I13)*('[4]Dropdown codes'!J$2:J$100=J13), 0))} -> Moderate 8
A14: 1 | C14: Context Hazard 1. | D14: 1. | E14: Moderate | F14: Rare | G14: {=INDEX('Dropdown codes'!L$2:L$100, MATCH(1, ('Dropdown codes'!I$2:I$100=E14)*('Dropdown codes'!J$2:J$100=F14), 0))} -> Low 3 | I14: Critical | J14: Unlikely | K14: {=INDEX('[4]Dropdown codes'!L$2:L$100, MATCH(1, ('[4]Dropdown codes'!I$2:I$100=I14)*('[4]Dropdown codes'!J$2:J$100=J14), 0))} -> Moderate 10
A15: 1 | C15: Context Hazard 1. | D15: 1. | E15: Moderate | F15: Rare | G15: {=INDEX('Dropdown codes'!L$2:L$100, MATCH(1, ('Dropdown codes'!I$2:I$100=E15)*('Dropdown codes'!J$2:J$100=F15), 0))} -> Low 3 | I15: Moderate | J15: Unlikely | K15: {=INDEX('[4]Dropdown codes'!L$2:L$100, MATCH(1, ('[4]Dropdown codes'!I$2:I$100=I15)*('[4]Dropdown codes'!J$2:J$100=J15), 0))} -> Moderate 6
A16: 1 | C16: Context Hazard 1. | D16: 1. | E16: Moderate | F16: Rare | G16: {=INDEX('Dropdown codes'!L$2:L$100, MATCH(1, ('Dropdown codes'!I$2:I$100=E16)*('Dropdown codes'!J$2:J$100=F16), 0))} -> Low 3 | I16: Minor | J16: Unlikely | K16: {=INDEX('[4]Dropdown codes'!L$2:L$100, MATCH(1, ('[4]Dropdown codes'!I$2:I$100=I16)*('[4]Dropdown codes'!J$2:J$100=J16), 0))} -> Low 4
I17: Moderate | J17: Unlikely | K17: {=INDEX('[4]Dropdown codes'!L$2:L$100, MATCH(1, ('[4]Dropdown codes'!I$2:I$100=I17)*('[4]Dropdown codes'!J$2:J$100=J17), 0))} -> Moderate 6
I18: Moderate | J18: Unlikely | K18: {=INDEX('[4]Dropdown codes'!L$2:L$100, MATCH(1, ('[4]Dropdown codes'!I$2:I$100=I18)*('[4]Dropdown codes'!J$2:J$100=J18), 0))} -> Moderate 6
I19: Moderate | J19: Unlikely | K19: {=INDEX('[4]Dropdown codes'!L$2:L$100, MATCH(1, ('[4]Dropdown codes'!I$2:I$100=I19)*('[4]Dropdown codes'!J$2:J$100=J19), 0))} -> Moderate 6
I20: Moderate | J20: Unlikely | K20: {=INDEX('[4]Dropdown codes'!L$2:L$100, MATCH(1, ('[4]Dropdown codes'!I$2:I$100=I20)*('[4]Dropdown codes'!J$2:J$100=J20), 0))} -> Moderate 6
I21: Moderate | J21: Unlikely | K21: {=INDEX('[4]Dropdown codes'!L$2:L$100, MATCH(1, ('[4]Dropdown codes'!I$2:I$100=I21)*('[4]Dropdown codes'!J$2:J$100=J21), 0))} -> Moderate 6
K22: {=INDEX('[4]Dropdown codes'!L$2:L$100, MATCH(1, ('[4]Dropdown codes'!I$2:I$100=I22)*('[4]Dropdown codes'!J$2:J$100=J22), 0))} -> 0
K23: {=INDEX('[4]Dropdown codes'!L$2:L$100, MATCH(1, ('[4]Dropdown codes'!I$2:I$100=I23)*('[4]Dropdown codes'!J$2:J$100=J23), 0))} -> 0

Sheet 4. Action Plan (Addit. Cont)
B2: ACTION PLAN (following on from Additional Controls)
B3: Item | C3: Hazard | D3: Actions Required | E3: Responsibility | F3: Due Date | G3: Action Number (Archibus, Purchase Order) | H3: Comments
B5: 1
B6: 2
B7: 3
B8: 4
B9: 5
B10: 6
B11: 7
B12: 8
B13: 9
B14: 10
B15: 11
B16: 12
B17: 13

Sheet 5. Review Record
D2: Comments (list any additions or changes made during review)
B3: Date | C3: Attendees

Sheet 6. Matrix
C2: HSE-FM-002 Workplace Risk Assessment and Control (WRAC)

Sheet 7. Hazard Categories
A1: Identified SCU Hazard Categories
A2: Animals | B2: Legionella and Waterborne Pathogens
A3: Asbestos Exposure | B3: Low Job Control
A4: Aviation | B4: Low Recognition or Reward
A5: Biological Agents | B5: Noise Exposure
A6: Boating | B6: Nanomaterials
A7: Bullying and Harassment (including sexual harassment) | B7: Occupational Violence and Aggression
A8: Compressed Gases and Cryogenics | B8: Person-Vehicle and Machinery Interaction
A9: Confined Spaces | B9: Poor Environmental Conditions
A10: Cultural and Ethical Risks in Research | B10: Poor Organisational Change Management
A11: Digital Security & Cyber Risk | B11: Poor Organisational Justice
A12: Diving | B12: Poor Role Clarity and Job Design
A13: Electrical | B13: Poor Support
... A24: Insider Cybersecurity Threats | B24: Young Persons and Expectant Mothers
A25: Lack of Oxygen

Sheet 8. Consultation Log
A1: DATE | B1: WHO | C1: OUTCOME | D1: ACTIONS
A2: 45322 | B2: Clare Thorpe, Danika Head | D2: Infrastructure upgrades
A3: 45322 | B3: Chithira Johnson | D3: Student training requirements for entry after hours

Sheet 9. References
B3: References | C3: Links
B4: SCU Resources | C4: High Risk Procedures
C5: Critical Risk

Sheet Dropdown codes
G2: Rare | H2: Insingnificant | I2: INSINGNIFICANT | J2: Rare | K2: Low | L2: Low 1
G3: Unlikely | H3: Minor | I3: INSINGNIFICANT | J3: Unlikely | K3: Low | L3: Low 2
G4: Possible | H4: Moderate | I4: INSINGNIFICANT | J4: Possible | K4: Low | L4: Low 3
G5: Likely | H5: Major | I5: INSINGNIFICANT | J5: Likely | K5: Low | L5: Low 4
G6: Almost certain | H6: Critical | I6: INSINGNIFICANT | J6: Almost Certain | K6: Moderate | L6: Moderate 5
I7: MINOR | J7: Rare | K7: Low | L7: Low 2
I8: MINOR | J8: Unlikely | K8: Low | L8: Low 4
I9: MINOR | J9: Possible | K9: Moderate | L9: Moderate 6
I10: MINOR | J10: Likely | K10: Moderate | L10: Moderate 8
I11: MINOR | J11: Almost Certain | K11: Moderate | L11: Moderate 10
I12: MODERATE | J12: Rare | K12: Low | L12: Low 3
I13: MODERATE | J13: Unlikely | K13: Moderate | L13: Moderate 6
I14: MODERATE | J14: Possible | K14: Moderate | L14: Moderate 9
I15: MODERATE | J15: Likely | K15: HIGH | L15: High 12
I16: MODERATE | J16: Almost Certain | K16: HIGH | L16: High 15
I17: Major | J17: Rare | K17: Low | L17: Low 4
I18: Major | J18: Unlikely | K18: Moderate | L18: Moderate 8
... I26: Critical | J26: Almost Certain | K26: EXTREME | L26: Extreme 25
